BEGIN:VCALENDAR
VERSION:2.0
PRODID:-//AudioTheme 2.3.8
BEGIN:VEVENT
UID:urn:uuid:2ec2bdb1-8bf2-4931-bf2b-1787928a90b1
URL:https://forcedtomode.de/shows/%f0%9f%9f%a5-steinhaus-2/
DTSTART;TZID=GMT:20221001T180000
SUMMARY:Steinhaus
DESCRIPTION:"THE A+B SPECIAL" SET 2 // INFO // SOLD OUT!
LOCATION:Steinhaus Bautzen\, Steinstraße 37\, Bautzen\, (GER)\, Deutschland\, 02625
END:VEVENT
END:VCALENDAR
