BEGIN:VCALENDAR
VERSION:2.0
PRODID:-//AudioTheme 2.3.8
BEGIN:VEVENT
UID:http://forcedtomode.de/wordpress/?post_type=audiotheme_gig&#038;p=748
URL:https://forcedtomode.de/shows/2016-02-27/
DTSTART;TZID=GMT:20160227T190000
SUMMARY:Haus der Jugend
LOCATION:Haus der Jugend\, Friedrich Ebert Straße 9\, Hettstedt\, (GER)\, Deutschland\, 06333
END:VEVENT
END:VCALENDAR
