BEGIN:VCALENDAR
VERSION:2.0
PRODID:-//AudioTheme 2.3.8
BEGIN:VEVENT
UID:urn:uuid:623288a4-b873-44f7-8fb9-a4c95c88e07f
URL:https://forcedtomode.de/shows/2026-04-04/
DTSTART;TZID=GMT:20260404T180000
SUMMARY:Tonhalle
DESCRIPTION:BLACK CELEBRATION TOUR / / INFO + TICKETS
LOCATION:Tonhalle\, Atelierstraße 24\, München\, (GER)\, Germany\, 81671
END:VEVENT
END:VCALENDAR
