BEGIN:VCALENDAR
VERSION:2.0
PRODID:-//AudioTheme 2.3.8
BEGIN:VEVENT
UID:urn:uuid:02b15594-157c-44cd-92c4-81e8262b8b5c
URL:https://forcedtomode.de/shows/2026-04-09/
DTSTART;TZID=GMT:20260409T180000
SUMMARY:AMO Kulturhaus
DESCRIPTION:BLACK CELEBRATION TOUR / / SOLD OUT!
LOCATION:AMO Kulturhaus\, Erich-Weinert-Straße 27\, Magdeburg\, (GER)\, Germany\, 39104
END:VEVENT
END:VCALENDAR
