BEGIN:VCALENDAR
VERSION:2.0
PRODID:-//AudioTheme 2.3.8
BEGIN:VEVENT
UID:urn:uuid:713b2ba4-da89-482a-9534-768215d63298
URL:https://forcedtomode.de/shows/3-black-lower-castle-festival-2024/
DTSTART;TZID=GMT:20240712T140000
SUMMARY:3. Black Lower Castle Festival 2024
DESCRIPTION:INFO + TICKETS
LOCATION:Niederburg Kranichfeld Freilichtbühne\, Schloßgasse 18\, Kranichfeld\, (GER)\, Germany\, 99448
END:VEVENT
END:VCALENDAR
