BEGIN:VCALENDAR
VERSION:2.0
PRODID:-//AudioTheme 2.3.8
BEGIN:VEVENT
UID:urn:uuid:be3fa7a7-09f8-46bb-8750-df6e7bc03fdc
URL:https://forcedtomode.de/shows/ad-hoc-arena/
DTSTART;TZID=GMT:20260619T180000
SUMMARY:ad hoc Arena
DESCRIPTION:INFO + TICKETS
LOCATION:ad hoc Arena\, Roland-Ducke-Weg 1\, Jena\, (GER)\, 07745
END:VEVENT
END:VCALENDAR
