BEGIN:VCALENDAR
VERSION:2.0
PRODID:-//AudioTheme 2.3.8
BEGIN:VEVENT
UID:urn:uuid:1cd4121b-63c1-465a-ad0d-b995c563e748
URL:https://forcedtomode.de/shows/alter-schlachthof-2/
DTSTART;TZID=GMT:20260412T180000
SUMMARY:Alter Schlachthof
DESCRIPTION:BLACK CELEBRATION TOUR / / SOLD OUT!
LOCATION:Alter Schlachthof\, Gothaer Str. 11\, Dresden\, (GER)\, Germany\, 01097
END:VEVENT
END:VCALENDAR
