BEGIN:VCALENDAR
VERSION:2.0
PRODID:-//AudioTheme 2.3.8
BEGIN:VEVENT
UID:urn:uuid:41e99ba8-3bae-4c84-890b-27ed457cffe1
URL:https://forcedtomode.de/shows/altes-theater-10/
DTSTART;TZID=GMT:20230520T180000
SUMMARY:Altes Theater
DESCRIPTION:INFO + TICKETS
LOCATION:Altes Theater\, Tessenowstraße 11\, Magdeburg\, (GER)\, Germany\, 39114 
END:VEVENT
END:VCALENDAR
