BEGIN:VCALENDAR
VERSION:2.0
PRODID:-//AudioTheme 2.3.8
BEGIN:VEVENT
UID:http://forcedtomode.de/wordpress/?post_type=audiotheme_gig&#038;p=806
URL:https://forcedtomode.de/shows/augsburg-kantine/
DTSTART;TZID=GMT:20160903T180000
SUMMARY:Kantine
LOCATION:Kantine\, Am Exerzierplatz 25a\, Augsburg\, (GER)\, Germany\, 86156
END:VEVENT
END:VCALENDAR
