BEGIN:VCALENDAR
VERSION:2.0
PRODID:-//AudioTheme 2.3.8
BEGIN:VEVENT
UID:urn:uuid:64fe9c10-2b00-45b0-b251-047ed98d63ba
URL:https://forcedtomode.de/shows/b90-2/
DTSTART;TZID=GMT:20251122T200000
SUMMARY:B90
DESCRIPTION:INFO + TICKETS
LOCATION:B90\, Elektryków\, Gdansk\, (PL)\, Poland\, 80-863
END:VEVENT
END:VCALENDAR
