BEGIN:VCALENDAR
VERSION:2.0
PRODID:-//AudioTheme 2.3.8
BEGIN:VEVENT
UID:urn:uuid:8df04b61-caab-4c9e-881a-af568f0ba664
URL:https://forcedtomode.de/shows/babel-2/
DTSTART;TZID=GMT:20251210T180000
SUMMARY:Babel
DESCRIPTION:INFO + TICKETS
LOCATION:Babel\, Spångatan 38\,\, Malmö\, (SWE)\, SVERIGE\, 21153
END:VEVENT
END:VCALENDAR
