BEGIN:VCALENDAR
VERSION:2.0
PRODID:-//AudioTheme 2.3.8
BEGIN:VEVENT
UID:urn:uuid:add57e5c-1b1f-420c-88bd-c2e3605eac64
URL:https://forcedtomode.de/shows/backstage-4/
DTSTART;TZID=GMT:20230413T180000
SUMMARY:Backstage
DESCRIPTION:INFO + TICKETS
LOCATION:Backstage\, Reitknechtstraße 6\, München\, (GER)\, Germany\, 80639
END:VEVENT
END:VCALENDAR
