BEGIN:VCALENDAR
VERSION:2.0
PRODID:-//AudioTheme 2.3.8
BEGIN:VEVENT
UID:urn:uuid:a626a0ad-67f9-48e9-a028-8f4079d015e4
URL:https://forcedtomode.de/shows/backstage-werk/
DTSTART;TZID=GMT:20240221T190000
SUMMARY:Backstage (Werk)
DESCRIPTION:ONE CARESS TOUR // INFO & TICKETS
LOCATION:Backstage\, Reitknechtstraße 6\, München\, (GER)\, Germany\, 80639
END:VEVENT
END:VCALENDAR
