BEGIN:VCALENDAR
VERSION:2.0
PRODID:-//AudioTheme 2.3.8
BEGIN:VEVENT
UID:http://forcedtomode.de/wordpress/?post_type=audiotheme_gig&#038;p=777
URL:https://forcedtomode.de/shows/bautzen-steinhaus/
DTSTART;TZID=GMT:20160312T190000
SUMMARY:Bautzen Steinhaus
LOCATION:Steinhaus Bautzen\, Steinstraße 37\, Bautzen\, (GER)\, Deutschland\, 02625
END:VEVENT
END:VCALENDAR
