BEGIN:VCALENDAR
VERSION:2.0
PRODID:-//AudioTheme 2.3.8
BEGIN:VEVENT
UID:urn:uuid:06eb7089-9459-44a1-b1f6-59b36a1e73da
URL:https://forcedtomode.de/shows/bergfest/
DTSTART;TZID=GMT:20220812T170000
SUMMARY:Festung Mark (zuvor Thale!)
DESCRIPTION:ACHTUNG! NEUE LOCATION!  INFO + TICKETS (zuvor Thale!)
LOCATION:Festung Mark\, Hohepfortewall 1\, Magdeburg\, (GER)\, Germany\, 39104
END:VEVENT
END:VCALENDAR
