BEGIN:VCALENDAR
VERSION:2.0
PRODID:-//AudioTheme 2.3.8
BEGIN:VEVENT
UID:http://forcedtomode.de/wordpress/?post_type=audiotheme_gig&#038;p=780
URL:https://forcedtomode.de/shows/berlin-frannz-club-sincity-festival/
DTSTART;TZID=GMT:20160429T180000
SUMMARY:Frannz Club (SinCity Festival)
LOCATION:fraanz Club Berlin\, Schönhauser Allee 36\, Berlin\, (GER)\, Deutschland\, 10435
END:VEVENT
END:VCALENDAR
