BEGIN:VCALENDAR
VERSION:2.0
PRODID:-//AudioTheme 2.3.8
BEGIN:VEVENT
UID:http://forcedtomode.de/wordpress/?post_type=audiotheme_gig&#038;p=784
URL:https://forcedtomode.de/shows/berlin-hansa-studios-meistersaal/
DTSTART;TZID=GMT:20160513T180000
SUMMARY:Hansa-Studios, Meistersaal
LOCATION:Meistersaal Berlin\, Köthener Straße 38\, Berlin\, (GER)\, Germany\, 10963
END:VEVENT
END:VCALENDAR
