BEGIN:VCALENDAR
VERSION:2.0
PRODID:-//AudioTheme 2.3.8
BEGIN:VEVENT
UID:urn:uuid:a3ca7d08-ffb1-4f58-9fcd-a4eab88736f5
URL:https://forcedtomode.de/shows/biertenne-3/
DTSTART;TZID=GMT:20240323T193000
SUMMARY:Biertenne
DESCRIPTION:SOLD OUT!
LOCATION:Wernesgrüner Brauerei Gutshof\, Bergstraße 2\,\, Steinberg/OT Wernesgrün\, (GER)\, Germany\, 08237
END:VEVENT
END:VCALENDAR
