BEGIN:VCALENDAR
VERSION:2.0
PRODID:-//AudioTheme 2.3.8
BEGIN:VEVENT
UID:urn:uuid:69f06e9e-7970-42f8-875b-004b86f6114c
URL:https://forcedtomode.de/shows/black-out-festival/
DTSTART;TZID=GMT:20230224T170000
SUMMARY:Black Out Festival
DESCRIPTION:INFO + TICKETS
LOCATION:Bibelot\, Noordendijk 148\, Dordrecht\, (NLD)\, Netherlands\, 3311 RR
END:VEVENT
END:VCALENDAR
