BEGIN:VCALENDAR
VERSION:2.0
PRODID:-//AudioTheme 2.3.8
BEGIN:VEVENT
UID:http://forcedtomode.de/wordpress/?post_type=audiotheme_gig&#038;p=809
URL:https://forcedtomode.de/shows/bremen-meisenfrei-tickets/
DTSTART;TZID=GMT:20160924T180000
SUMMARY:Meisenfrei
LOCATION:Meisenfrei\, Hankenstrasse 18\, Bremen\, (GER)\, Germany\, 28195
END:VEVENT
END:VCALENDAR
