BEGIN:VCALENDAR
VERSION:2.0
PRODID:-//AudioTheme 2.3.8
BEGIN:VEVENT
UID:urn:uuid:4917c838-2e98-4a9c-b1bf-9a68cbe9cc5b
URL:https://forcedtomode.de/shows/burg-creuzburg/
DTSTART;TZID=GMT:20250822T180000
SUMMARY:Burg Creuzburg
DESCRIPTION:INFO + TICKETS
LOCATION:Burg Creuzburg\, 51\,052500\, 10\,246111\, Amt Creuzburg\, (GER)\, Germany\, 99831
END:VEVENT
END:VCALENDAR
