BEGIN:VCALENDAR
VERSION:2.0
PRODID:-//AudioTheme 2.3.8
BEGIN:VEVENT
UID:http://forcedtomode.de/wordpress/?post_type=audiotheme_gig&#038;p=795
URL:https://forcedtomode.de/shows/burg-stargard-krummes-haus/
DTSTART;TZID=GMT:20160702T180000
SUMMARY:Krummes Haus
LOCATION:Burg Stargard\, Burg 1\, Burg Stargard\, (GER)\, Germany\, 17094
END:VEVENT
END:VCALENDAR
