BEGIN:VCALENDAR
VERSION:2.0
PRODID:-//AudioTheme 2.3.8
BEGIN:VEVENT
UID:urn:uuid:4f3a63d6-5cd3-4f80-a523-439adbbc506a
URL:https://forcedtomode.de/shows/ck-wiatrak-4/
DTSTART;TZID=GMT:20230324T180000
SUMMARY:CK Wiatrak
DESCRIPTION:INFO + TICKETS
LOCATION:Klub Wiatrak\, ul. Wolności 395\, Zabrze\, (PL)\, Poland
END:VEVENT
END:VCALENDAR
