BEGIN:VCALENDAR
VERSION:2.0
PRODID:-//AudioTheme 2.3.8
BEGIN:VEVENT
UID:urn:uuid:531e2eac-7598-4c89-9c25-7f16483f7807
URL:https://forcedtomode.de/shows/ck-wiatrak-5/
DTSTART;TZID=GMT:20230325T180000
SUMMARY:CK Wiatrak
DESCRIPTION:INFO + TICKETS
LOCATION:Klub Wiatrak\, ul. Wolności 395\, Zabrze\, (PL)\, Poland
END:VEVENT
END:VCALENDAR
