BEGIN:VCALENDAR
VERSION:2.0
PRODID:-//AudioTheme 2.3.8
BEGIN:VEVENT
UID:urn:uuid:ac8f2e5d-6788-488b-9860-5d093953df7a
URL:https://forcedtomode.de/shows/club-hollywood/
DTSTART;TZID=GMT:20240928T190000
SUMMARY:Club Hollywood
DESCRIPTION:INFO + TICKETS
LOCATION:Club Hollywood\, Vana-Posti 8\, Tallinn\, (EST)\, Estonia\, 10146
END:VEVENT
END:VCALENDAR
