BEGIN:VCALENDAR
VERSION:2.0
PRODID:-//AudioTheme 2.3.8
BEGIN:VEVENT
UID:urn:uuid:c3950bc0-083b-45ef-848a-7e0e763abaa0
URL:https://forcedtomode.de/shows/club-vaudeville-3/
DTSTART;TZID=GMT:20230414T170000
SUMMARY:Club Vaudeville
DESCRIPTION:INFO + TICKETS
LOCATION:Club Vaudeville\, Von Behringstraße 6-8\,\, Lindau (Bodensee)\, (GER)\, Germany\, 88131
END:VEVENT
END:VCALENDAR
