BEGIN:VCALENDAR
VERSION:2.0
PRODID:-//AudioTheme 2.3.8
BEGIN:VEVENT
UID:urn:uuid:b10d5d1b-b4b8-40fd-912f-44dfe3b3242a
URL:https://forcedtomode.de/shows/colos-saal-2/
DTSTART;TZID=GMT:20240621T180000
SUMMARY:Colos-Saal
DESCRIPTION:SOLD OUT!
LOCATION:Colos-Saal\, Roßmarkt 19\, Aschaffenburg\, (GER)\, Germany\, 63739
END:VEVENT
END:VCALENDAR
