BEGIN:VCALENDAR
VERSION:2.0
PRODID:-//AudioTheme 2.3.8
BEGIN:VEVENT
UID:urn:uuid:71c69a57-937e-4b40-bfde-9793ca266c22
URL:https://forcedtomode.de/shows/colos-saal/
DTSTART;TZID=GMT:20230616T180000
SUMMARY:Colos-Saal
DESCRIPTION:INFO + TICKETS
LOCATION:Colos-Saal\, Roßmarkt 19\, Aschaffenburg\, (GER)\, Germany\, 63739
END:VEVENT
END:VCALENDAR
