BEGIN:VCALENDAR
VERSION:2.0
PRODID:-//AudioTheme 2.3.8
BEGIN:VEVENT
UID:urn:uuid:48377041-867f-47cd-9903-98880ae9d149
URL:https://forcedtomode.de/shows/columbiahalle/
DTSTART;TZID=GMT:20260416T180000
SUMMARY:Columbiahalle
DESCRIPTION:BLACK CELEBRATION TOUR / / INFO + TICKETS
LOCATION:Columbiahalle\, Columbiadamm 13-21\, Berlin\, (GER)\, Germany\, 10965
END:VEVENT
END:VCALENDAR
