BEGIN:VCALENDAR
VERSION:2.0
PRODID:-//AudioTheme 2.3.8
BEGIN:VEVENT
UID:urn:uuid:6e61de13-9b9a-47aa-b17c-2af679b0e83a
URL:https://forcedtomode.de/shows/crazy-bul/
DTSTART;TZID=GMT:20221126T190000
SUMMARY:Crazy Bull
DESCRIPTION:INFO + TICKETS
LOCATION:Crazy Bull\, Via Eustachio Degola 4/r\, Genova GE\, (ITA)\, Italy\, 16151
END:VEVENT
END:VCALENDAR
