BEGIN:VCALENDAR
VERSION:2.0
PRODID:-//AudioTheme 2.3.8
BEGIN:VEVENT
UID:http://forcedtomode.de/wordpress/?post_type=audiotheme_gig&#038;p=782
URL:https://forcedtomode.de/shows/erfurt-from-hell/
DTSTART;TZID=GMT:20160507T180000
SUMMARY:From Hell
LOCATION:Club From Hell\, Flughafenstr. 41\, Erfurt-Bindersleben\, (GER)\, Germany\, 99092
END:VEVENT
END:VCALENDAR
