BEGIN:VCALENDAR
VERSION:2.0
PRODID:-//AudioTheme 2.3.8
BEGIN:VEVENT
UID:urn:uuid:cb062972-b3b7-4fff-a21f-464378e7cfa7
URL:https://forcedtomode.de/shows/erlebnis-bergwerk-merkers/
DTSTART;TZID=GMT:20240413T173000
SUMMARY:Erlebnis Bergwerk Merkers
DESCRIPTION:SOLD OUT!
LOCATION:Erlebnis Bergwerk Merkers\, Zufahrtstraße\, Merkers\, (GER)\, 36460
END:VEVENT
END:VCALENDAR
