BEGIN:VCALENDAR
VERSION:2.0
PRODID:-//AudioTheme 2.3.8
BEGIN:VEVENT
UID:http://forcedtomode.de/wordpress/?post_type=audiotheme_gig&#038;p=797
URL:https://forcedtomode.de/shows/festung-koenigstein-open-air/
DTSTART;TZID=GMT:20160730T180000
SUMMARY:Festung Königstein (Open Air)
LOCATION:Festung Königstein\, Festung 1\, Königstein / Sächsische Schweiz\, (GER)\, Germany\, D-01824
END:VEVENT
END:VCALENDAR
