BEGIN:VCALENDAR
VERSION:2.0
PRODID:-//AudioTheme 2.3.8
BEGIN:VEVENT
UID:urn:uuid:fe413924-3c7e-42b2-8eab-f500827454ab
URL:https://forcedtomode.de/shows/freilichtbuehne-3/
DTSTART;TZID=GMT:20230617T170000
SUMMARY:Freilichtbühne
DESCRIPTION:INFO + TICKETS
LOCATION:Freilichtbühne Schönewalde\, Am Park 1-2\, Schönewalde\, (GER)\, Germany\, 04916
END:VEVENT
END:VCALENDAR
