BEGIN:VCALENDAR
VERSION:2.0
PRODID:-//AudioTheme 2.3.8
BEGIN:VEVENT
UID:urn:uuid:230b830b-f27c-428e-bbd6-6ff2cb798cd7
URL:https://forcedtomode.de/shows/freilichtbuehne-4/
DTSTART;TZID=GMT:20240802T160000
SUMMARY:Freilichtbühne
DESCRIPTION:INFO + TICKETS
LOCATION:Freilichtbühne Eisenhüttenstadt\, Werksiedlung 1\, Eisenhüttenstadt\, (GER)\, Germany\, 15890
END:VEVENT
END:VCALENDAR
