BEGIN:VCALENDAR
VERSION:2.0
PRODID:-//AudioTheme 2.3.8
BEGIN:VEVENT
UID:urn:uuid:69c0acb6-e714-4f22-bb68-17fe73cdbae9
URL:https://forcedtomode.de/shows/freilichtbuehne-luebeck/
DTSTART;TZID=GMT:20240510T180000
SUMMARY:Freilichtbühne Lübeck
DESCRIPTION:INFO + TICKETS
LOCATION:Freilichtbühne Lübeck\, Wallstraße 34\, Lübeck\, (GER)\, Germany\, 23560
END:VEVENT
END:VCALENDAR
