BEGIN:VCALENDAR
VERSION:2.0
PRODID:-//AudioTheme 2.3.8
BEGIN:VEVENT
UID:urn:uuid:0d14882e-7e1f-4df0-a47c-8ccca5467d30
URL:https://forcedtomode.de/shows/gig-3286/
DTSTART;TZID=GMT:20220924T180000
SUMMARY:Parkbühne
DESCRIPTION:INFO + TICKETS
LOCATION:Parkbühne\, Dr.-Wilhelm-Külz-Str. 10\, Fürstenwalde\, (GER)\, Germany\, 15517
END:VEVENT
END:VCALENDAR
