BEGIN:VCALENDAR
VERSION:2.0
PRODID:-//AudioTheme 2.3.8
BEGIN:VEVENT
UID:urn:uuid:ea87ee3e-29b0-4c0e-8cc2-4ff181766245
URL:https://forcedtomode.de/shows/gig-3292/
DTSTART;TZID=GMT:20220909T150000
SUMMARY:Turbinenfest - Open Air
DESCRIPTION:INFO (Eintritt frei)
LOCATION:Turbinenhalle Open Air\, Freigelände an der Turbinenhalle / Im Lipperfeld 23\, Oberhausen\, (GER)\, Germany\, 46047
END:VEVENT
END:VCALENDAR
