BEGIN:VCALENDAR
VERSION:2.0
PRODID:-//AudioTheme 2.3.8
BEGIN:VEVENT
UID:urn:uuid:caf08e49-4dce-438d-9f4c-4cba85dad7d2
URL:https://forcedtomode.de/shows/gig-3355/
DTSTART;TZID=GMT:20230303T190000
SUMMARY:Kesselhaus
DESCRIPTION:SOLD OUT!
LOCATION:Kesselhaus\, Knaackstraße 97\, Berlin\, (GER)\, 10435 
END:VEVENT
END:VCALENDAR
