BEGIN:VCALENDAR
VERSION:2.0
PRODID:-//AudioTheme 2.3.8
BEGIN:VEVENT
UID:http://forcedtomode.de/wordpress/?post_type=audiotheme_gig&#038;p=541
URL:https://forcedtomode.de/shows/gig-541/
DTSTART;TZID=GMT:20161105T190000
SUMMARY:Gothic Meets Klassik 2016
LOCATION:Gewandhaus\, Augustusplatz 8\, Leipzig\, (GER)\, Germany\, 04109
END:VEVENT
END:VCALENDAR
