BEGIN:VCALENDAR
VERSION:2.0
PRODID:-//AudioTheme 2.3.8
BEGIN:VEVENT
UID:urn:uuid:146a395e-aab6-4b13-89b7-6e3a824c906a
URL:https://forcedtomode.de/shows/gjethuset/
DTSTART;TZID=GMT:20240419T180000
SUMMARY:Gjethuset
DESCRIPTION:INFO + TICKETS
LOCATION:Gjethuset\, Gjethusgade 5\, Frederiksværk\, (DK)\, 3300
END:VEVENT
END:VCALENDAR
