BEGIN:VCALENDAR
VERSION:2.0
PRODID:-//AudioTheme 2.3.8
BEGIN:VEVENT
UID:urn:uuid:49e5a724-8fa5-4f60-8ad7-10596f608f2b
URL:https://forcedtomode.de/shows/gladhouse-3/
DTSTART;VALUE=DATE:20230114
SUMMARY:Gladhouse
DESCRIPTION:INFO + TICKETS
LOCATION:Glad-House\, Straße der Jugend 16\, Cottbus\, (GER)\, Germany\, 03046
END:VEVENT
END:VCALENDAR
