BEGIN:VCALENDAR
VERSION:2.0
PRODID:-//AudioTheme 2.3.8
BEGIN:VEVENT
UID:urn:uuid:fca9aa47-14a8-47fe-a987-f4fc38a85280
URL:https://forcedtomode.de/shows/goksir/
DTSTART;TZID=GMT:20230429T170000
SUMMARY:GOKSIR
DESCRIPTION:INFO + TICKETS
LOCATION:GOKSIR\, ul. Rekreacyjna 1\, Przecław\, (PL)\, Poland\, 72-005
END:VEVENT
END:VCALENDAR
