BEGIN:VCALENDAR
VERSION:2.0
PRODID:-//AudioTheme 2.3.8
BEGIN:VEVENT
UID:http://forcedtomode.de/wordpress/?post_type=audiotheme_gig&#038;p=807
URL:https://forcedtomode.de/shows/goslar-stadtfest-open-air/
DTSTART;TZID=GMT:20160909T180000
SUMMARY:Stadtfest (Open Air)
LOCATION:Goslar\, Goslar\, (GER)\, Germany\, 38640
END:VEVENT
END:VCALENDAR
