BEGIN:VCALENDAR
VERSION:2.0
PRODID:-//AudioTheme 2.3.8
BEGIN:VEVENT
UID:http://forcedtomode.de/wordpress/?post_type=audiotheme_gig&#038;p=812
URL:https://forcedtomode.de/shows/guben-fabrik-werkeins/
DTSTART;TZID=GMT:20161008T180000
SUMMARY:Fabrik WerkEins
LOCATION:Fabrik\, Mittelstr.18\, Guben\, (GER)\, Germany\, 03172
END:VEVENT
END:VCALENDAR
