BEGIN:VCALENDAR
VERSION:2.0
PRODID:-//AudioTheme 2.3.8
BEGIN:VEVENT
UID:urn:uuid:1483f4e5-34d4-4895-a0d8-0cec0af5cea3
URL:https://forcedtomode.de/shows/hademarscher-hof/
DTSTART;TZID=GMT:20230106T170000
SUMMARY:Hademarscher Hof
DESCRIPTION:INFO + TICKETS
LOCATION:Hademarscher Hof\, Im Kloster 15\, Hanerau-Hademarschen\, (GER)\, Germany\, 25557
END:VEVENT
END:VCALENDAR
