BEGIN:VCALENDAR
VERSION:2.0
PRODID:-//AudioTheme 2.3.8
BEGIN:VEVENT
UID:urn:uuid:cbdda7e6-f161-49a4-bf12-755036e8bc93
URL:https://forcedtomode.de/shows/haus-der-kultur-und-bildung/
DTSTART;TZID=GMT:20220923T180000
SUMMARY:Haus der Kultur und Bildung
DESCRIPTION:INFO + TICKETS
LOCATION:Haus der Kultur und Bildung (HKB)\, Marktplatz 1\, Neubrandenburg\, (GER)\, Germany\, 17033
END:VEVENT
END:VCALENDAR
