BEGIN:VCALENDAR
VERSION:2.0
PRODID:-//AudioTheme 2.3.8
BEGIN:VEVENT
UID:urn:uuid:be8f8f20-1c23-4b9b-a576-25a7a5ebbb21
URL:https://forcedtomode.de/shows/heimathafen/
DTSTART;TZID=GMT:20240303T200000
SUMMARY:Heimathafen Neukölln
DESCRIPTION:ONE CARESS TOUR // SOLD OUT!
LOCATION:Heimathafen Neukölln\, Karl-Marx-Straße 141⎜\, Berlin\, (GER)\, Germany\, 12043
END:VEVENT
END:VCALENDAR
