BEGIN:VCALENDAR
VERSION:2.0
PRODID:-//AudioTheme 2.3.8
BEGIN:VEVENT
UID:http://forcedtomode.de/wordpress/?post_type=audiotheme_gig&#038;p=592
URL:https://forcedtomode.de/shows/het-oude-badhuis/
DTSTART;TZID=GMT:20161021T180000
SUMMARY:Het Oude Badhuis
LOCATION:Het Oude Badhuis\, Stuivenbergplein 38\, Antwerpen\, (BEL)\, Belgium\, 2060
END:VEVENT
END:VCALENDAR
