BEGIN:VCALENDAR
VERSION:2.0
PRODID:-//AudioTheme 2.3.8
BEGIN:VEVENT
UID:urn:uuid:ecaf9b6b-1a62-4fdb-8015-e7f97a1033ff
URL:https://forcedtomode.de/shows/hotel-fuglsocentret/
DTSTART;VALUE=DATE:20230218
SUMMARY:Hotel Fuglsøcentret
DESCRIPTION:INFO + TICKETS
LOCATION:Hotel Fuglsøcentret\, Dragsmurvej 6\, Knebel\, (DK)\, Denmark\, 8420
END:VEVENT
END:VCALENDAR
